BEGIN:VCALENDAR
VERSION:2.0
PRODID:-//SKF Schweinfurt - ECPv6.15.17.1//NONSGML v1.0//EN
CALSCALE:GREGORIAN
METHOD:PUBLISH
X-WR-CALNAME:SKF Schweinfurt
X-ORIGINAL-URL:https://www.skf-schweinfurt.de
X-WR-CALDESC:Veranstaltungen für SKF Schweinfurt
REFRESH-INTERVAL;VALUE=DURATION:PT1H
X-Robots-Tag:noindex
X-PUBLISHED-TTL:PT1H
BEGIN:VTIMEZONE
TZID:Europe/Berlin
BEGIN:DAYLIGHT
TZOFFSETFROM:+0100
TZOFFSETTO:+0200
TZNAME:CEST
DTSTART:20250330T010000
END:DAYLIGHT
BEGIN:STANDARD
TZOFFSETFROM:+0200
TZOFFSETTO:+0100
TZNAME:CET
DTSTART:20251026T010000
END:STANDARD
BEGIN:DAYLIGHT
TZOFFSETFROM:+0100
TZOFFSETTO:+0200
TZNAME:CEST
DTSTART:20260329T010000
END:DAYLIGHT
BEGIN:STANDARD
TZOFFSETFROM:+0200
TZOFFSETTO:+0100
TZNAME:CET
DTSTART:20261025T010000
END:STANDARD
BEGIN:DAYLIGHT
TZOFFSETFROM:+0100
TZOFFSETTO:+0200
TZNAME:CEST
DTSTART:20270328T010000
END:DAYLIGHT
BEGIN:STANDARD
TZOFFSETFROM:+0200
TZOFFSETTO:+0100
TZNAME:CET
DTSTART:20271031T010000
END:STANDARD
END:VTIMEZONE
BEGIN:VEVENT
DTSTART;TZID=Europe/Berlin:20261013T170000
DTEND;TZID=Europe/Berlin:20261013T190000
DTSTAMP:20260423T195504
CREATED:20260121T104232Z
LAST-MODIFIED:20260121T104232Z
UID:10001923-1791910800-1791918000@www.skf-schweinfurt.de
SUMMARY:Vorsorgevollmacht Teil 2: Vertrauen ist gut – Spielregeln sind besser
DESCRIPTION:Vorsorgevollmacht Teil 2: Vertrauen ist gut – Spielregeln sind besser\n1. Innenverhältnis: Rechte und Pflichten zwischen Vollmachtgeber:in und bevollmächtigter Person\n2.Warum klare Absprachen wichtig sind; Konfliktpotenzial vermeiden: Transparenz und Kontrolle\n3. Praktische Hinweise für die Umsetzung im Alltag \nDienstag\, 10.03.2026 um 17:00 Uhr\nDienstag\, 13.10.2026 um 17:00 Uhr \nReferentinnen: Katja Halbig\, Dipl. Pädagogin (Uni)\, Sozialbetriebswirtin (FH)\, rechtliche Betreuerin im SkF e.V.\,  und Svenja Paulus\, Sozialarbeiterin B.A. (FH)\, rechtliche Betreuerin im SkF e.V. \nAnmeldung\nKostenfrei\, Anmeldung per E-Mail an betreuungsverein@skf-schweinfurt.de oder telefonisch unter 09721 / 9414-200.
URL:https://www.skf-schweinfurt.de/event/vorsorgevollmacht-teil-2-vertrauen-ist-gut-spielregeln-sind-besser-2/
LOCATION:Sozialdienst katholischer Frauen e.V.\, Schweinfurt Friedrich-Stein-Straße 28\, 97421 Schweinfurt
ATTACH;FMTTYPE=image/png:https://www.skf-schweinfurt.de/wp-content/uploads/2026/01/Fortbildungsprogramm_2026_Insta_Vorsorgevollmacht2.png
END:VEVENT
END:VCALENDAR