BEGIN:VCALENDAR
VERSION:2.0
PRODID:-//SKF Schweinfurt - ECPv6.15.17.1//NONSGML v1.0//EN
CALSCALE:GREGORIAN
METHOD:PUBLISH
X-WR-CALNAME:SKF Schweinfurt
X-ORIGINAL-URL:https://www.skf-schweinfurt.de
X-WR-CALDESC:Veranstaltungen für SKF Schweinfurt
REFRESH-INTERVAL;VALUE=DURATION:PT1H
X-Robots-Tag:noindex
X-PUBLISHED-TTL:PT1H
BEGIN:VTIMEZONE
TZID:Europe/Berlin
BEGIN:DAYLIGHT
TZOFFSETFROM:+0100
TZOFFSETTO:+0200
TZNAME:CEST
DTSTART:20250330T010000
END:DAYLIGHT
BEGIN:STANDARD
TZOFFSETFROM:+0200
TZOFFSETTO:+0100
TZNAME:CET
DTSTART:20251026T010000
END:STANDARD
BEGIN:DAYLIGHT
TZOFFSETFROM:+0100
TZOFFSETTO:+0200
TZNAME:CEST
DTSTART:20260329T010000
END:DAYLIGHT
BEGIN:STANDARD
TZOFFSETFROM:+0200
TZOFFSETTO:+0100
TZNAME:CET
DTSTART:20261025T010000
END:STANDARD
BEGIN:DAYLIGHT
TZOFFSETFROM:+0100
TZOFFSETTO:+0200
TZNAME:CEST
DTSTART:20270328T010000
END:DAYLIGHT
BEGIN:STANDARD
TZOFFSETFROM:+0200
TZOFFSETTO:+0100
TZNAME:CET
DTSTART:20271031T010000
END:STANDARD
END:VTIMEZONE
BEGIN:VEVENT
DTSTART;TZID=Europe/Berlin:20260318T160000
DTEND;TZID=Europe/Berlin:20260318T200000
DTSTAMP:20260423T135506
CREATED:20260121T120402Z
LAST-MODIFIED:20260121T125130Z
UID:10001926-1773849600-1773864000@www.skf-schweinfurt.de
SUMMARY:Varenik-Workshop im Rahmen der 34. Schweinfurter Frauenwochen
DESCRIPTION:Im Rahmen der 34. Schweinfurter Frauenwochen lädt der Sozialdienst katholischer Frauen e.V. Schweinfurt zu einem besonderen Koch- und Begegnungsabend ein: einem Vareniki-Workshop für Frauen.​\nUnter dem Titel „Frauen im Gespräch – Zwischen Teig\, Tradition und neuen Wegen“ bereiten die Teilnehmerinnen gemeinsam Vareniki\, beliebte ukrainische Teigtaschen\, zu und kommen dabei miteinander ins Gespräch. Im Mittelpunkt stehen das Leben in Schweinfurt\, persönliche Erfahrungen\, Wünsche und Alltagsmomente von Frauen mit unterschiedlichen Biografien.​ \nTermin und Ort\nDatum: Mittwoch\, 18. März 2026\, 16.00–20.00 Uhr​\nOrt: Geschäftsstelle SkF Schweinfurt\, Friedrich-Stein-Str. 28\, 97421 Schweinfurt\, 4. Obergeschoss\, barrierefreier Zugang vorhanden.​ \nAnmeldung und Teilnahme\nDie Teilnehmerzahl ist begrenzt\, eine Anmeldung ist erforderlich.​ \nAnmeldung bis 6. März 2026 bei Projektleitung Olha Sekeriadis unter sekeriadis@skf-schweinfurt.de oder Tel. 0176 41169197.​ \nKosten: Spenden erbeten.​ \nDie Veranstaltung findet im Rahmen des vom Bayerischen Staatsministerium des Innern\, für Sport und Integration geförderten Projekts „Lebenswirklichkeit in Bayern“ statt.
URL:https://www.skf-schweinfurt.de/event/varenik-workshop-im-rahmen-der-34-schweinfurter-frauenwochen/
LOCATION:Sozialdienst katholischer Frauen e.V.\, Schweinfurt Friedrich-Stein-Straße 28\, 97421 Schweinfurt
ATTACH;FMTTYPE=image/png:https://www.skf-schweinfurt.de/wp-content/uploads/2026/01/Frauenwochen.png
END:VEVENT
END:VCALENDAR