BEGIN:VCALENDAR
VERSION:2.0
PRODID:-//SKF Schweinfurt - ECPv6.15.17.1//NONSGML v1.0//EN
CALSCALE:GREGORIAN
METHOD:PUBLISH
X-WR-CALNAME:SKF Schweinfurt
X-ORIGINAL-URL:https://www.skf-schweinfurt.de
X-WR-CALDESC:Veranstaltungen für SKF Schweinfurt
REFRESH-INTERVAL;VALUE=DURATION:PT1H
X-Robots-Tag:noindex
X-PUBLISHED-TTL:PT1H
BEGIN:VTIMEZONE
TZID:Europe/Berlin
BEGIN:DAYLIGHT
TZOFFSETFROM:+0100
TZOFFSETTO:+0200
TZNAME:CEST
DTSTART:20240331T010000
END:DAYLIGHT
BEGIN:STANDARD
TZOFFSETFROM:+0200
TZOFFSETTO:+0100
TZNAME:CET
DTSTART:20241027T010000
END:STANDARD
BEGIN:DAYLIGHT
TZOFFSETFROM:+0100
TZOFFSETTO:+0200
TZNAME:CEST
DTSTART:20250330T010000
END:DAYLIGHT
BEGIN:STANDARD
TZOFFSETFROM:+0200
TZOFFSETTO:+0100
TZNAME:CET
DTSTART:20251026T010000
END:STANDARD
BEGIN:DAYLIGHT
TZOFFSETFROM:+0100
TZOFFSETTO:+0200
TZNAME:CEST
DTSTART:20260329T010000
END:DAYLIGHT
BEGIN:STANDARD
TZOFFSETFROM:+0200
TZOFFSETTO:+0100
TZNAME:CET
DTSTART:20261025T010000
END:STANDARD
END:VTIMEZONE
BEGIN:VEVENT
DTSTART;TZID=Europe/Berlin:20250513T170000
DTEND;TZID=Europe/Berlin:20250513T190000
DTSTAMP:20260423T170039
CREATED:20241113T095424Z
LAST-MODIFIED:20241113T101436Z
UID:10001875-1747155600-1747162800@www.skf-schweinfurt.de
SUMMARY:Unterbringung - wie läuft das ab?
DESCRIPTION:Aus der Sicht von Amtsgericht\, Betreuungsbehörde und rechtlichem Betreuer \n\nVoraussetzungen zur Unterbringung\nPsychisch-Kranken-Gesetz\nAblauf einer Unterbringung\n\nReferent_Innen: Richter Maximilian Just (Amtsgericht Schweinfurt)\, Cathrin Geißler (Betreuungsbehörde Landkreis Schweinfurt) und eine Mitarbeiterin des Betreuungsvereines \nAnmeldung unter 09721/9414-200 oder per Mail betreuungsverein@skf-schweinfurt.de
URL:https://www.skf-schweinfurt.de/event/unterbringung-wie-laeuft-das-ab/
LOCATION:Sozialdienst katholischer Frauen e.V.\, Schweinfurt Friedrich-Stein-Straße 28\, 97421 Schweinfurt
END:VEVENT
END:VCALENDAR