BEGIN:VCALENDAR
VERSION:2.0
PRODID:-//SKF Schweinfurt - ECPv6.15.17.1//NONSGML v1.0//EN
CALSCALE:GREGORIAN
METHOD:PUBLISH
X-ORIGINAL-URL:https://www.skf-schweinfurt.de
X-WR-CALDESC:Veranstaltungen für SKF Schweinfurt
REFRESH-INTERVAL;VALUE=DURATION:PT1H
X-Robots-Tag:noindex
X-PUBLISHED-TTL:PT1H
BEGIN:VTIMEZONE
TZID:Europe/Berlin
BEGIN:DAYLIGHT
TZOFFSETFROM:+0100
TZOFFSETTO:+0200
TZNAME:CEST
DTSTART:20240331T010000
END:DAYLIGHT
BEGIN:STANDARD
TZOFFSETFROM:+0200
TZOFFSETTO:+0100
TZNAME:CET
DTSTART:20241027T010000
END:STANDARD
BEGIN:DAYLIGHT
TZOFFSETFROM:+0100
TZOFFSETTO:+0200
TZNAME:CEST
DTSTART:20250330T010000
END:DAYLIGHT
BEGIN:STANDARD
TZOFFSETFROM:+0200
TZOFFSETTO:+0100
TZNAME:CET
DTSTART:20251026T010000
END:STANDARD
BEGIN:DAYLIGHT
TZOFFSETFROM:+0100
TZOFFSETTO:+0200
TZNAME:CEST
DTSTART:20260329T010000
END:DAYLIGHT
BEGIN:STANDARD
TZOFFSETFROM:+0200
TZOFFSETTO:+0100
TZNAME:CET
DTSTART:20261025T010000
END:STANDARD
END:VTIMEZONE
BEGIN:VEVENT
DTSTART;TZID=Europe/Berlin:20250121T170000
DTEND;TZID=Europe/Berlin:20250121T190000
DTSTAMP:20260423T170349
CREATED:20240408T135851Z
LAST-MODIFIED:20241113T101053Z
UID:10001867-1737478800-1737486000@www.skf-schweinfurt.de
SUMMARY:Selbstbestimmt vorsorgen
DESCRIPTION:Instrumente der selbstbestimmten Willenserklärung \n– Vorsorgevollmacht \n– Betreuungsverfügung \n– Patientenverfügung \nAnmeldung unter Telefon: 09721 9414-200 oder per Mail an betreuungsverein@skf-schweinfurt.de \nReferentin: Katja Halbig \n  \nAchtung: Die Veranstaltung am 28.11.24 findet im Pfarrheim St. Kilian statt.
URL:https://www.skf-schweinfurt.de/event/selbstbestimmt-vorsorgen-2/2025-01-21/
LOCATION:Sozialdienst katholischer Frauen e.V.\, Schweinfurt Friedrich-Stein-Straße 28\, 97421 Schweinfurt
END:VEVENT
END:VCALENDAR