BEGIN:VCALENDAR
VERSION:2.0
PRODID:-//SKF Schweinfurt - ECPv6.15.17.1//NONSGML v1.0//EN
CALSCALE:GREGORIAN
METHOD:PUBLISH
X-WR-CALNAME:SKF Schweinfurt
X-ORIGINAL-URL:https://www.skf-schweinfurt.de
X-WR-CALDESC:Veranstaltungen für SKF Schweinfurt
REFRESH-INTERVAL;VALUE=DURATION:PT1H
X-Robots-Tag:noindex
X-PUBLISHED-TTL:PT1H
BEGIN:VTIMEZONE
TZID:Europe/Berlin
BEGIN:DAYLIGHT
TZOFFSETFROM:+0100
TZOFFSETTO:+0200
TZNAME:CEST
DTSTART:20240331T010000
END:DAYLIGHT
BEGIN:STANDARD
TZOFFSETFROM:+0200
TZOFFSETTO:+0100
TZNAME:CET
DTSTART:20241027T010000
END:STANDARD
BEGIN:DAYLIGHT
TZOFFSETFROM:+0100
TZOFFSETTO:+0200
TZNAME:CEST
DTSTART:20250330T010000
END:DAYLIGHT
BEGIN:STANDARD
TZOFFSETFROM:+0200
TZOFFSETTO:+0100
TZNAME:CET
DTSTART:20251026T010000
END:STANDARD
BEGIN:DAYLIGHT
TZOFFSETFROM:+0100
TZOFFSETTO:+0200
TZNAME:CEST
DTSTART:20260329T010000
END:DAYLIGHT
BEGIN:STANDARD
TZOFFSETFROM:+0200
TZOFFSETTO:+0100
TZNAME:CET
DTSTART:20261025T010000
END:STANDARD
BEGIN:DAYLIGHT
TZOFFSETFROM:+0100
TZOFFSETTO:+0200
TZNAME:CEST
DTSTART:20270328T010000
END:DAYLIGHT
BEGIN:STANDARD
TZOFFSETFROM:+0200
TZOFFSETTO:+0100
TZNAME:CET
DTSTART:20271031T010000
END:STANDARD
END:VTIMEZONE
BEGIN:VEVENT
DTSTART;TZID=Europe/Berlin:20260413T094959
DTEND;TZID=Europe/Berlin:20260413T094959
DTSTAMP:20260423T154758
CREATED:20251201T112025Z
LAST-MODIFIED:20251202T090524Z
UID:10001901-1776073799-1776073799@www.skf-schweinfurt.de
SUMMARY:Sternentreff - Offenes Angebot für Eltern von Sternenkindern
DESCRIPTION:Der Sozialdienst katholischer Frauen (SkF) Schweinfurt und das Leopoldina-Krankenhaus bieten mit dem „Sternentreff – Offener Treff für Eltern von Sternenkindern“ ein Angebot für Eltern\, die ein Kind während der Schwangerschaft\, kurz nach der Geburt oder im ersten Lebensjahr verloren haben. Der Treff richtet sich an betroffene Mütter und Väter\, die in einem geschützten Rahmen über ihren Verlust sprechen möchten. \nDie Gruppe besteht seit etwa einem Jahr und bietet einen Ort\, an dem Eltern gemeinsam über ihre Trauer sprechen und sich austauschen können. Begleitet wird der Treff von Judith Dümler\, einer erfahrenen Trauerbegleiterin und Klinikseelsorgerin\, die den Eltern hilft\, mit ihrer Trauer umzugehen. \nDie Treffen finden alle sechs Wochen am frühen Abend in Schweinfurt statt. Betroffene Eltern sind herzlich eingeladen\, dieses Angebot zu nutzen. \nWeitere Informationen auch können unserem Flyer entnommen werden oder sind auf Instagram zu finden:@sternenkind_sw \nBitte anmelden unter: \nJudith DümmlerTrauerbegleitung & Klinikseelsorge📧 jduemler@leopoldina.de📞 09721 720-3589
URL:https://www.skf-schweinfurt.de/event/sternentreff/2026-04-13/
END:VEVENT
BEGIN:VEVENT
DTSTART;TZID=Europe/Berlin:20260309T094959
DTEND;TZID=Europe/Berlin:20260309T094959
DTSTAMP:20260423T154758
CREATED:20251201T112025Z
LAST-MODIFIED:20251202T090524Z
UID:10001900-1773049799-1773049799@www.skf-schweinfurt.de
SUMMARY:Sternentreff - Offenes Angebot für Eltern von Sternenkindern
DESCRIPTION:Der Sozialdienst katholischer Frauen (SkF) Schweinfurt und das Leopoldina-Krankenhaus bieten mit dem „Sternentreff – Offener Treff für Eltern von Sternenkindern“ ein Angebot für Eltern\, die ein Kind während der Schwangerschaft\, kurz nach der Geburt oder im ersten Lebensjahr verloren haben. Der Treff richtet sich an betroffene Mütter und Väter\, die in einem geschützten Rahmen über ihren Verlust sprechen möchten. \nDie Gruppe besteht seit etwa einem Jahr und bietet einen Ort\, an dem Eltern gemeinsam über ihre Trauer sprechen und sich austauschen können. Begleitet wird der Treff von Judith Dümler\, einer erfahrenen Trauerbegleiterin und Klinikseelsorgerin\, die den Eltern hilft\, mit ihrer Trauer umzugehen. \nDie Treffen finden alle sechs Wochen am frühen Abend in Schweinfurt statt. Betroffene Eltern sind herzlich eingeladen\, dieses Angebot zu nutzen. \nWeitere Informationen auch können unserem Flyer entnommen werden oder sind auf Instagram zu finden:@sternenkind_sw \nBitte anmelden unter: \nJudith DümmlerTrauerbegleitung & Klinikseelsorge📧 jduemler@leopoldina.de📞 09721 720-3589
URL:https://www.skf-schweinfurt.de/event/sternentreff/2026-03-09/
END:VEVENT
BEGIN:VEVENT
DTSTART;TZID=Europe/Berlin:20260209T094959
DTEND;TZID=Europe/Berlin:20260209T094959
DTSTAMP:20260423T154758
CREATED:20251201T112025Z
LAST-MODIFIED:20251202T090524Z
UID:10001899-1770630599-1770630599@www.skf-schweinfurt.de
SUMMARY:Sternentreff - Offenes Angebot für Eltern von Sternenkindern
DESCRIPTION:Der Sozialdienst katholischer Frauen (SkF) Schweinfurt und das Leopoldina-Krankenhaus bieten mit dem „Sternentreff – Offener Treff für Eltern von Sternenkindern“ ein Angebot für Eltern\, die ein Kind während der Schwangerschaft\, kurz nach der Geburt oder im ersten Lebensjahr verloren haben. Der Treff richtet sich an betroffene Mütter und Väter\, die in einem geschützten Rahmen über ihren Verlust sprechen möchten. \nDie Gruppe besteht seit etwa einem Jahr und bietet einen Ort\, an dem Eltern gemeinsam über ihre Trauer sprechen und sich austauschen können. Begleitet wird der Treff von Judith Dümler\, einer erfahrenen Trauerbegleiterin und Klinikseelsorgerin\, die den Eltern hilft\, mit ihrer Trauer umzugehen. \nDie Treffen finden alle sechs Wochen am frühen Abend in Schweinfurt statt. Betroffene Eltern sind herzlich eingeladen\, dieses Angebot zu nutzen. \nWeitere Informationen auch können unserem Flyer entnommen werden oder sind auf Instagram zu finden:@sternenkind_sw \nBitte anmelden unter: \nJudith DümmlerTrauerbegleitung & Klinikseelsorge📧 jduemler@leopoldina.de📞 09721 720-3589
URL:https://www.skf-schweinfurt.de/event/sternentreff/2026-02-09/
END:VEVENT
BEGIN:VEVENT
DTSTART;TZID=Europe/Berlin:20260112T094959
DTEND;TZID=Europe/Berlin:20260112T094959
DTSTAMP:20260423T154758
CREATED:20251201T112025Z
LAST-MODIFIED:20251202T090524Z
UID:10001898-1768211399-1768211399@www.skf-schweinfurt.de
SUMMARY:Sternentreff - Offenes Angebot für Eltern von Sternenkindern
DESCRIPTION:Der Sozialdienst katholischer Frauen (SkF) Schweinfurt und das Leopoldina-Krankenhaus bieten mit dem „Sternentreff – Offener Treff für Eltern von Sternenkindern“ ein Angebot für Eltern\, die ein Kind während der Schwangerschaft\, kurz nach der Geburt oder im ersten Lebensjahr verloren haben. Der Treff richtet sich an betroffene Mütter und Väter\, die in einem geschützten Rahmen über ihren Verlust sprechen möchten. \nDie Gruppe besteht seit etwa einem Jahr und bietet einen Ort\, an dem Eltern gemeinsam über ihre Trauer sprechen und sich austauschen können. Begleitet wird der Treff von Judith Dümler\, einer erfahrenen Trauerbegleiterin und Klinikseelsorgerin\, die den Eltern hilft\, mit ihrer Trauer umzugehen. \nDie Treffen finden alle sechs Wochen am frühen Abend in Schweinfurt statt. Betroffene Eltern sind herzlich eingeladen\, dieses Angebot zu nutzen. \nWeitere Informationen auch können unserem Flyer entnommen werden oder sind auf Instagram zu finden:@sternenkind_sw \nBitte anmelden unter: \nJudith DümmlerTrauerbegleitung & Klinikseelsorge📧 jduemler@leopoldina.de📞 09721 720-3589
URL:https://www.skf-schweinfurt.de/event/sternentreff/2026-01-12/
END:VEVENT
BEGIN:VEVENT
DTSTART;TZID=Europe/Berlin:20251215T080000
DTEND;TZID=Europe/Berlin:20251215T170000
DTSTAMP:20260423T154758
CREATED:20251201T112025Z
LAST-MODIFIED:20251202T090524Z
UID:10001897-1765785600-1765818000@www.skf-schweinfurt.de
SUMMARY:Sternentreff - Offenes Angebot für Eltern von Sternenkindern
DESCRIPTION:Der Sozialdienst katholischer Frauen (SkF) Schweinfurt und das Leopoldina-Krankenhaus bieten mit dem „Sternentreff – Offener Treff für Eltern von Sternenkindern“ ein Angebot für Eltern\, die ein Kind während der Schwangerschaft\, kurz nach der Geburt oder im ersten Lebensjahr verloren haben. Der Treff richtet sich an betroffene Mütter und Väter\, die in einem geschützten Rahmen über ihren Verlust sprechen möchten. \nDie Gruppe besteht seit etwa einem Jahr und bietet einen Ort\, an dem Eltern gemeinsam über ihre Trauer sprechen und sich austauschen können. Begleitet wird der Treff von Judith Dümler\, einer erfahrenen Trauerbegleiterin und Klinikseelsorgerin\, die den Eltern hilft\, mit ihrer Trauer umzugehen. \nDie Treffen finden alle sechs Wochen am frühen Abend in Schweinfurt statt. Betroffene Eltern sind herzlich eingeladen\, dieses Angebot zu nutzen. \nWeitere Informationen auch können unserem Flyer entnommen werden oder sind auf Instagram zu finden:@sternenkind_sw \nBitte anmelden unter: \nJudith DümmlerTrauerbegleitung & Klinikseelsorge📧 jduemler@leopoldina.de📞 09721 720-3589
URL:https://www.skf-schweinfurt.de/event/sternentreff/2025-12-15/2/
END:VEVENT
BEGIN:VEVENT
DTSTART;TZID=Europe/Berlin:20251215T000000
DTEND;TZID=Europe/Berlin:20251215T235959
DTSTAMP:20260423T154758
CREATED:20251201T112025Z
LAST-MODIFIED:20251202T090524Z
UID:10001896-1765756800-1765843199@www.skf-schweinfurt.de
SUMMARY:Sternentreff - Offenes Angebot für Eltern von Sternenkindern
DESCRIPTION:Der Sozialdienst katholischer Frauen (SkF) Schweinfurt und das Leopoldina-Krankenhaus bieten mit dem „Sternentreff – Offener Treff für Eltern von Sternenkindern“ ein Angebot für Eltern\, die ein Kind während der Schwangerschaft\, kurz nach der Geburt oder im ersten Lebensjahr verloren haben. Der Treff richtet sich an betroffene Mütter und Väter\, die in einem geschützten Rahmen über ihren Verlust sprechen möchten. \nDie Gruppe besteht seit etwa einem Jahr und bietet einen Ort\, an dem Eltern gemeinsam über ihre Trauer sprechen und sich austauschen können. Begleitet wird der Treff von Judith Dümler\, einer erfahrenen Trauerbegleiterin und Klinikseelsorgerin\, die den Eltern hilft\, mit ihrer Trauer umzugehen. \nDie Treffen finden alle sechs Wochen am frühen Abend in Schweinfurt statt. Betroffene Eltern sind herzlich eingeladen\, dieses Angebot zu nutzen. \nWeitere Informationen auch können unserem Flyer entnommen werden oder sind auf Instagram zu finden:@sternenkind_sw \nBitte anmelden unter: \nJudith DümmlerTrauerbegleitung & Klinikseelsorge📧 jduemler@leopoldina.de📞 09721 720-3589
URL:https://www.skf-schweinfurt.de/event/sternentreff/2025-12-15/1/
END:VEVENT
BEGIN:VEVENT
DTSTART;TZID=Europe/Berlin:20251125T190100
DTEND;TZID=Europe/Berlin:20251125T210000
DTSTAMP:20260423T154758
CREATED:20241010T072119Z
LAST-MODIFIED:20251111T085435Z
UID:10001866-1764097260-1764104400@www.skf-schweinfurt.de
SUMMARY:Vortrag "Mama\, nicht schreien!" Gelingende Kommunikation in der Familie
DESCRIPTION:Ein Vortrag für alle Mütter\, Väter\, Großeltern und andere Interessierte\, denen ein liebevoller Umgang in der Familie am Herzen liegt\, denen aber manchmal auch einfach der Geduldsfaden reißt. Mit Elementen aus der Kommunikationspsychologie und der gewaltfreien Kommunikation werden Alternativen im Umgang mit den Kindern\, aber auch den anderen Familienmitgliedern aufgezeigt. Außerdem werden kleine Tricks vorgestellt\, mit denen sich der Alltag gelassener gestalten lässt. \nAnmeldung und weitere Infos per Mail an schwangerschaftsberatung@skf-schweinfurt.de oder unter Tel. 09721 9414300
URL:https://www.skf-schweinfurt.de/event/mama-nicht-schreien-gelingende-kommunikation-in-der-familie/
LOCATION:Pfarrzentrum St. Kilian
END:VEVENT
BEGIN:VEVENT
DTSTART;TZID=Europe/Berlin:20251118T190000
DTEND;TZID=Europe/Berlin:20251118T210000
DTSTAMP:20260423T154758
CREATED:20241009T102540Z
LAST-MODIFIED:20251111T085343Z
UID:10001863-1763492400-1763499600@www.skf-schweinfurt.de
SUMMARY:Online Vortrag: "Alles Rund?! Um Schwangerschaft und Geburt"
DESCRIPTION:Der Vortrag verschafft einen Überblick über die einzelnen Themen Elterngeld\, Elternzeit\, Mutterschutz\, Mutterschaftsleistungen sowie Kindergeld. \nAußerdem besteht für jeden die Möglichkeit zur persönlichen Terminvereinbarung in der Schwangerschaftsberatung des SkF Schweinfurt e.V. zur Klärung weiterer Fragen\, zur Hilfe bei der Antragsstellung oder zur Abstimmung der eigenen Situation. \nVortrag findet per Zoom statt. \nAnmeldung und weitere Infos per Mail an schwangerschaftsberatung@skf-schweinfurt.de oder per Telefon unter 09721 9414300 \n 
URL:https://www.skf-schweinfurt.de/event/online-alles-rund-um-schwangerschaft-und-geburt/2025-11-18/
LOCATION:online
END:VEVENT
BEGIN:VEVENT
DTSTART;TZID=Europe/Berlin:20251020T160000
DTEND;TZID=Europe/Berlin:20251020T183000
DTSTAMP:20260423T154758
CREATED:20250409T093125Z
LAST-MODIFIED:20250915T072155Z
UID:10001882-1760976000-1760985000@www.skf-schweinfurt.de
SUMMARY:Elternkurs "Fit für's Baby"
DESCRIPTION:Die Geburt eines Babys verändert das Leben einschneidend: \nWerde ich eine gute Mutter\, ein guter Vater sein? Was braucht mein Baby für seine Entwicklung? Wie verändert sich die Partnerbeziehung\, was im Beruf und finanziell? Wo finde ich Unterstützung? \nZiel der Infoveranstaltung ist es stark zu machen für den „neuen“ Alltag mit dem Baby. Sie lernen\, wie Sie auf die Signale Ihres Babys feinfühlig reagieren können: denn dadurch kann Ihr Kind eine sichere Bindung zu Ihnen aufbauen. \nSicher gebundene Kinder sind lebenslang selbstsicherer\, belastbarer\, lernen leichter und sind sozial kompetenter. \nErkenntnisse aus der modernen Entwicklungspsychologie und Säuglingsforschung bilden die Grundlagen für den Inhalt der Veranstaltung. \n  \nEin Kursangebot der VHS Haßberge in Zusammenarbeit mit der Katholischen Beratungsstelle für Schwangerschaftsfragen (KSB) im Sozialdienst kath. Frauen Schweinfurt e.V. \nKursleitung:\nUte Nicklas\nDipl. Sozialpädagogin (FH)\nSozialdienst kath. Frauen Schweinfurt e. V.\nNähere Informationen unter: 09721/9414-300 \nDer Vortrag ist Kostenfrei. \nAnmeldung über VHS Haßberge \n09521/94 200: \nMO – FR    9.00 – 12.00 Uhr \nMO + DO 13.00 – 16.00 Uhr
URL:https://www.skf-schweinfurt.de/event/elternkurs-fit-fuers-baby/
LOCATION:Haus St. Bruno\, Promenade 37\, Haßfurt\, Germany
END:VEVENT
BEGIN:VEVENT
DTSTART;TZID=Europe/Berlin:20251006T190000
DTEND;TZID=Europe/Berlin:20251006T210000
DTSTAMP:20260423T154758
CREATED:20241010T071809Z
LAST-MODIFIED:20251002T102003Z
UID:10001865-1759777200-1759784400@www.skf-schweinfurt.de
SUMMARY:ABGESAGT! Vortrag "Pubertät\, der ganz normale Wahnsinn"
DESCRIPTION:Diese Veranstaltung findet leider nicht statt. \nGerade waren sie noch zuckersüß und umgänglich. Doch plötzlich ist alles anders!  Mit der äußerlichen Veränderung scheint auch ein innerer Wandel einher zu gehen. Viele Eltern berichten davon\, dass sie ihr eigenes Kind nicht mehr zu kennen scheinen. \nDer Vortrag informiert über die Phasen der Pubertät und die „ganz normalen“ Veränderungen im Familienalltag\, aber auch in den Beziehungen. Ziel ist es\, die Eltern dabei zu unterstützen\, auch in diesen jetzt „anderen“ Zeiten\, die Beziehung zu den Kindern nicht zu verlieren und gelassen mit der neuen Lebensphase umgehen zu können. \nAnmeldung und weitere Infos per Mail an schwangerenberatung@skf-schweinfurt.de oder unter Tel. 09721 9414300
URL:https://www.skf-schweinfurt.de/event/vortrag-pubertaet-der-ganz-normale-wahnsinn-2/
LOCATION:Sozialdienst katholischer Frauen e.V.\, Schweinfurt Friedrich-Stein-Straße 28\, 97421 Schweinfurt
END:VEVENT
BEGIN:VEVENT
DTSTART;TZID=Europe/Berlin:20250527T190000
DTEND;TZID=Europe/Berlin:20250527T210000
DTSTAMP:20260423T154758
CREATED:20241009T102917Z
LAST-MODIFIED:20241010T072343Z
UID:10001864-1748372400-1748379600@www.skf-schweinfurt.de
SUMMARY:Vortrag: "Bis hierhin oder doch weiter?": Grenzen und Konsequenzen erleichtern den Alltag
DESCRIPTION:Gut begründete Grenzen und Konsequenzen sind wichtig für das Zusammenlebengeben in der Familie. Sie geben nicht nur den Kindern Halt\, sondern tragen auch dazu bei\, dass alltägliche Situationen nicht eskalieren und Konfliktpunkte nicht immer wieder diskutiert werden müssen. \nDer Vortrag gibt zahlreiche Tipps und Informationen\, wie Grenzen und Konsequenzen sinnvoll im Alltag eingesetzt und umgesetzt werden können\, wann Grenzen notwendig sind und wie man die geeignete Konsequenz findet. \nAnmeldung und weitere Infos per Mail an schwangerenberatung@skf-schweinfurt.de oder unter Tel. 09721 9414300
URL:https://www.skf-schweinfurt.de/event/bis-hierhin-oder-doch-weiter-grenzen-und-konsequenzen-erleichtern-den-alltag-2/
LOCATION:Pfarrzentrum St. Kilian
END:VEVENT
BEGIN:VEVENT
DTSTART;TZID=Europe/Berlin:20250520T190000
DTEND;TZID=Europe/Berlin:20250520T210000
DTSTAMP:20260423T154758
CREATED:20250318T124356Z
LAST-MODIFIED:20250520T090848Z
UID:10001862-1747767600-1747774800@www.skf-schweinfurt.de
SUMMARY:ABGESAGT! Online Vortrag: "Alles Rund?! Um Schwangerschaft und Geburt"
DESCRIPTION:Update: Die Veranstaltung muss leider wegen Krankheit abgesagt werden. \n  \nDer Vortrag verschafft einen Überblick über die einzelnen Themen Elterngeld\, Elternzeit\, Mutterschutz\, Mutterschaftsleistungen sowie Kindergeld. \nAußerdem besteht für jeden die Möglichkeit zur persönlichen Terminvereinbarung in der Schwangerschaftsberatung des SkF Schweinfurt e.V. zur Klärung weiterer Fragen\, zur Hilfe bei der Antragsstellung oder zur Abstimmung der eigenen Situation. \nVortrag findet per Zoom statt. \nAnmeldung und weitere Infos per Mail an schwangerschaftsberatung@skf-schweinfurt.de oder per Telefon unter 09721 9414300 \n 
URL:https://www.skf-schweinfurt.de/event/online-alles-rund-um-schwangerschaft-und-geburt-2/
LOCATION:online
END:VEVENT
END:VCALENDAR