BEGIN:VCALENDAR
VERSION:2.0
PRODID:-//SKF Schweinfurt - ECPv6.15.17.1//NONSGML v1.0//EN
CALSCALE:GREGORIAN
METHOD:PUBLISH
X-ORIGINAL-URL:https://www.skf-schweinfurt.de
X-WR-CALDESC:Veranstaltungen für SKF Schweinfurt
REFRESH-INTERVAL;VALUE=DURATION:PT1H
X-Robots-Tag:noindex
X-PUBLISHED-TTL:PT1H
BEGIN:VTIMEZONE
TZID:Europe/Berlin
BEGIN:DAYLIGHT
TZOFFSETFROM:+0100
TZOFFSETTO:+0200
TZNAME:CEST
DTSTART:20250330T010000
END:DAYLIGHT
BEGIN:STANDARD
TZOFFSETFROM:+0200
TZOFFSETTO:+0100
TZNAME:CET
DTSTART:20251026T010000
END:STANDARD
BEGIN:DAYLIGHT
TZOFFSETFROM:+0100
TZOFFSETTO:+0200
TZNAME:CEST
DTSTART:20260329T010000
END:DAYLIGHT
BEGIN:STANDARD
TZOFFSETFROM:+0200
TZOFFSETTO:+0100
TZNAME:CET
DTSTART:20261025T010000
END:STANDARD
BEGIN:DAYLIGHT
TZOFFSETFROM:+0100
TZOFFSETTO:+0200
TZNAME:CEST
DTSTART:20270328T010000
END:DAYLIGHT
BEGIN:STANDARD
TZOFFSETFROM:+0200
TZOFFSETTO:+0100
TZNAME:CET
DTSTART:20271031T010000
END:STANDARD
END:VTIMEZONE
BEGIN:VEVENT
DTSTART;TZID=Europe/Berlin:20260504T094959
DTEND;TZID=Europe/Berlin:20260504T094959
DTSTAMP:20260423T122617
CREATED:20251201T112025Z
LAST-MODIFIED:20251202T090524Z
UID:10001902-1777888199-1777888199@www.skf-schweinfurt.de
SUMMARY:Sternentreff - Offenes Angebot für Eltern von Sternenkindern
DESCRIPTION:Der Sozialdienst katholischer Frauen (SkF) Schweinfurt und das Leopoldina-Krankenhaus bieten mit dem „Sternentreff – Offener Treff für Eltern von Sternenkindern“ ein Angebot für Eltern\, die ein Kind während der Schwangerschaft\, kurz nach der Geburt oder im ersten Lebensjahr verloren haben. Der Treff richtet sich an betroffene Mütter und Väter\, die in einem geschützten Rahmen über ihren Verlust sprechen möchten. \nDie Gruppe besteht seit etwa einem Jahr und bietet einen Ort\, an dem Eltern gemeinsam über ihre Trauer sprechen und sich austauschen können. Begleitet wird der Treff von Judith Dümler\, einer erfahrenen Trauerbegleiterin und Klinikseelsorgerin\, die den Eltern hilft\, mit ihrer Trauer umzugehen. \nDie Treffen finden alle sechs Wochen am frühen Abend in Schweinfurt statt. Betroffene Eltern sind herzlich eingeladen\, dieses Angebot zu nutzen. \nWeitere Informationen auch können unserem Flyer entnommen werden oder sind auf Instagram zu finden:@sternenkind_sw \nBitte anmelden unter: \nJudith DümmlerTrauerbegleitung & Klinikseelsorge📧 jduemler@leopoldina.de📞 09721 720-3589
URL:https://www.skf-schweinfurt.de/event/sternentreff/2026-05-04/
END:VEVENT
BEGIN:VEVENT
DTSTART;TZID=Europe/Berlin:20260520T150000
DTEND;TZID=Europe/Berlin:20260520T180000
DTSTAMP:20260423T122617
CREATED:20260401T122632Z
LAST-MODIFIED:20260415T120822Z
UID:10001931-1779289200-1779300000@www.skf-schweinfurt.de
SUMMARY:Offene Türen im Betreuungsverein
DESCRIPTION:Offene Türen im Betreuungsverein\nMittwoch\, 20.05.2026 | 15:00–18:00 Uhr \nIm Rahmen der bundesweiten Aktion Ehrentag laden wir herzlich zu einem Informationsnachmittag in den Betreuungsverein ein. Unter dem Titel „Führen rechtlicher Betreuung: Ehrenamt mit Sinn“ erfahren Interessierte\, wie verantwortungsvoll und bereichernd das Ehrenamt als rechtliche:r Betreuer:in sein kann. \nFreuen Sie sich auf kurze Fachvorträge\, praxisnahe Beispiele\, ein Mini-Quiz\, Informationsmaterial sowie die Möglichkeit zum persönlichen Austausch mit Mitarbeitenden des Betreuungsvereins. Bei Kaffee und Kuchen beantworten wir gern Ihre Fragen und geben Einblicke in die Aufgaben und Unterstützungsmöglichkeiten rund um die rechtliche Betreuung. \nEine Anmeldung ist nicht erforderlich\, erleichtert uns aber die Planung.\nTelefon: 09721 9414 200\nE-Mail: betreuungsverein@skf-schweinfurt.de \nDen Flyer zum Teilen und Weitergeben können Sie hier herunterladen.
URL:https://www.skf-schweinfurt.de/event/offene-tueren-im-betreuungsverein/
LOCATION:Sozialdienst katholischer Frauen e.V.\, Schweinfurt Friedrich-Stein-Straße 28\, 97421 Schweinfurt
ATTACH;FMTTYPE=image/png:https://www.skf-schweinfurt.de/wp-content/uploads/2026/04/Ehrentag.png
END:VEVENT
END:VCALENDAR