BEGIN:VCALENDAR
VERSION:2.0
PRODID:-//SKF Schweinfurt - ECPv6.15.17.1//NONSGML v1.0//EN
CALSCALE:GREGORIAN
METHOD:PUBLISH
X-ORIGINAL-URL:https://www.skf-schweinfurt.de
X-WR-CALDESC:Veranstaltungen für SKF Schweinfurt
REFRESH-INTERVAL;VALUE=DURATION:PT1H
X-Robots-Tag:noindex
X-PUBLISHED-TTL:PT1H
BEGIN:VTIMEZONE
TZID:Europe/Berlin
BEGIN:DAYLIGHT
TZOFFSETFROM:+0100
TZOFFSETTO:+0200
TZNAME:CEST
DTSTART:20250330T010000
END:DAYLIGHT
BEGIN:STANDARD
TZOFFSETFROM:+0200
TZOFFSETTO:+0100
TZNAME:CET
DTSTART:20251026T010000
END:STANDARD
BEGIN:DAYLIGHT
TZOFFSETFROM:+0100
TZOFFSETTO:+0200
TZNAME:CEST
DTSTART:20260329T010000
END:DAYLIGHT
BEGIN:STANDARD
TZOFFSETFROM:+0200
TZOFFSETTO:+0100
TZNAME:CET
DTSTART:20261025T010000
END:STANDARD
BEGIN:DAYLIGHT
TZOFFSETFROM:+0100
TZOFFSETTO:+0200
TZNAME:CEST
DTSTART:20270328T010000
END:DAYLIGHT
BEGIN:STANDARD
TZOFFSETFROM:+0200
TZOFFSETTO:+0100
TZNAME:CET
DTSTART:20271031T010000
END:STANDARD
END:VTIMEZONE
BEGIN:VEVENT
DTSTART;TZID=Europe/Berlin:20260425T130000
DTEND;TZID=Europe/Berlin:20260425T170000
DTSTAMP:20260421T161928
CREATED:20260415T120454Z
LAST-MODIFIED:20260415T120454Z
UID:10001932-1777122000-1777136400@www.skf-schweinfurt.de
SUMMARY:Barbecue für Frauen und Kinder im Garten der Begegnung
DESCRIPTION:Herzliche Einladung zum gemeinsamen Barbecue für Frauen und Kinder im Garten der Begegnung! \nAm Samstag\, den 25.04.2026\, sind alle herzlich eingeladen\, ab 13.00 Uhr zusammenzukommen\, miteinander zu essen\, zu genießen und ins Gespräch zu kommen. Es erwartet Sie ein fröhliches Mitbringbuffet – gerne kann etwas zum Teilen mitgebracht werden. \nDie Veranstaltung findet in Zusammenarbeit von IBF und SkF statt und ist Teil des Projekts „Lebenswirklichkeit in Bayern“. Gefördert wird das Projekt durch das Bayerische Staatsministerium des Innern\, für Sport und Integration.
URL:https://www.skf-schweinfurt.de/event/barbecue-fuer-frauen-und-kinder-im-garten-der-begegnung/
ATTACH;FMTTYPE=image/png:https://www.skf-schweinfurt.de/wp-content/uploads/2026/04/Picknick.png
END:VEVENT
END:VCALENDAR