BEGIN:VCALENDAR
VERSION:2.0
PRODID:-//SKF Schweinfurt - ECPv6.15.17.1//NONSGML v1.0//EN
CALSCALE:GREGORIAN
METHOD:PUBLISH
X-WR-CALNAME:SKF Schweinfurt
X-ORIGINAL-URL:https://www.skf-schweinfurt.de
X-WR-CALDESC:Veranstaltungen für SKF Schweinfurt
REFRESH-INTERVAL;VALUE=DURATION:PT1H
X-Robots-Tag:noindex
X-PUBLISHED-TTL:PT1H
BEGIN:VTIMEZONE
TZID:Europe/Berlin
BEGIN:DAYLIGHT
TZOFFSETFROM:+0100
TZOFFSETTO:+0200
TZNAME:CEST
DTSTART:20240331T010000
END:DAYLIGHT
BEGIN:STANDARD
TZOFFSETFROM:+0200
TZOFFSETTO:+0100
TZNAME:CET
DTSTART:20241027T010000
END:STANDARD
BEGIN:DAYLIGHT
TZOFFSETFROM:+0100
TZOFFSETTO:+0200
TZNAME:CEST
DTSTART:20250330T010000
END:DAYLIGHT
BEGIN:STANDARD
TZOFFSETFROM:+0200
TZOFFSETTO:+0100
TZNAME:CET
DTSTART:20251026T010000
END:STANDARD
BEGIN:DAYLIGHT
TZOFFSETFROM:+0100
TZOFFSETTO:+0200
TZNAME:CEST
DTSTART:20260329T010000
END:DAYLIGHT
BEGIN:STANDARD
TZOFFSETFROM:+0200
TZOFFSETTO:+0100
TZNAME:CET
DTSTART:20261025T010000
END:STANDARD
END:VTIMEZONE
BEGIN:VEVENT
DTSTART;TZID=Europe/Berlin:20251020T160000
DTEND;TZID=Europe/Berlin:20251020T183000
DTSTAMP:20260423T153539
CREATED:20250409T093125Z
LAST-MODIFIED:20250915T072155Z
UID:10001882-1760976000-1760985000@www.skf-schweinfurt.de
SUMMARY:Elternkurs "Fit für's Baby"
DESCRIPTION:Die Geburt eines Babys verändert das Leben einschneidend: \nWerde ich eine gute Mutter\, ein guter Vater sein? Was braucht mein Baby für seine Entwicklung? Wie verändert sich die Partnerbeziehung\, was im Beruf und finanziell? Wo finde ich Unterstützung? \nZiel der Infoveranstaltung ist es stark zu machen für den „neuen“ Alltag mit dem Baby. Sie lernen\, wie Sie auf die Signale Ihres Babys feinfühlig reagieren können: denn dadurch kann Ihr Kind eine sichere Bindung zu Ihnen aufbauen. \nSicher gebundene Kinder sind lebenslang selbstsicherer\, belastbarer\, lernen leichter und sind sozial kompetenter. \nErkenntnisse aus der modernen Entwicklungspsychologie und Säuglingsforschung bilden die Grundlagen für den Inhalt der Veranstaltung. \n  \nEin Kursangebot der VHS Haßberge in Zusammenarbeit mit der Katholischen Beratungsstelle für Schwangerschaftsfragen (KSB) im Sozialdienst kath. Frauen Schweinfurt e.V. \nKursleitung:\nUte Nicklas\nDipl. Sozialpädagogin (FH)\nSozialdienst kath. Frauen Schweinfurt e. V.\nNähere Informationen unter: 09721/9414-300 \nDer Vortrag ist Kostenfrei. \nAnmeldung über VHS Haßberge \n09521/94 200: \nMO – FR    9.00 – 12.00 Uhr \nMO + DO 13.00 – 16.00 Uhr
URL:https://www.skf-schweinfurt.de/event/elternkurs-fit-fuers-baby/
LOCATION:Haus St. Bruno\, Promenade 37\, Haßfurt\, Germany
END:VEVENT
END:VCALENDAR