BEGIN:VCALENDAR
VERSION:2.0
PRODID:-//SKF Schweinfurt - ECPv6.15.17.1//NONSGML v1.0//EN
CALSCALE:GREGORIAN
METHOD:PUBLISH
X-WR-CALNAME:SKF Schweinfurt
X-ORIGINAL-URL:https://www.skf-schweinfurt.de
X-WR-CALDESC:Veranstaltungen für SKF Schweinfurt
REFRESH-INTERVAL;VALUE=DURATION:PT1H
X-Robots-Tag:noindex
X-PUBLISHED-TTL:PT1H
BEGIN:VTIMEZONE
TZID:Europe/Berlin
BEGIN:DAYLIGHT
TZOFFSETFROM:+0100
TZOFFSETTO:+0200
TZNAME:CEST
DTSTART:20240331T010000
END:DAYLIGHT
BEGIN:STANDARD
TZOFFSETFROM:+0200
TZOFFSETTO:+0100
TZNAME:CET
DTSTART:20241027T010000
END:STANDARD
BEGIN:DAYLIGHT
TZOFFSETFROM:+0100
TZOFFSETTO:+0200
TZNAME:CEST
DTSTART:20250330T010000
END:DAYLIGHT
BEGIN:STANDARD
TZOFFSETFROM:+0200
TZOFFSETTO:+0100
TZNAME:CET
DTSTART:20251026T010000
END:STANDARD
BEGIN:DAYLIGHT
TZOFFSETFROM:+0100
TZOFFSETTO:+0200
TZNAME:CEST
DTSTART:20260329T010000
END:DAYLIGHT
BEGIN:STANDARD
TZOFFSETFROM:+0200
TZOFFSETTO:+0100
TZNAME:CET
DTSTART:20261025T010000
END:STANDARD
END:VTIMEZONE
BEGIN:VEVENT
DTSTART;VALUE=DATE:20250818
DTEND;VALUE=DATE:20250825
DTSTAMP:20260423T164724
CREATED:20250730T130514Z
LAST-MODIFIED:20250730T130802Z
UID:10001886-1755475200-1756079999@www.skf-schweinfurt.de
SUMMARY:"Lebenswirklichkeit in Bayern" - Familienausflug zum Aero-Club Schweinfurt
DESCRIPTION:Familienausflug zum Aero-Club Schweinfurt\nPicknick und Flugzeuge beobachten \nProjekt: Frauentreff „Lebenswirklichkeit in Bayern“Termin: Kalenderwoche 34 (genauer Termin wird bei Anmeldung mitgeteilt)Ort: Aero-Club Schweinfurt (Details nach Anmeldung) \nWir besuchen gemeinsam den Aero-Club Schweinfurt\, machen ein Picknick am Flugfeld und beobachten den Flugbetrieb. Ein spannendes Erlebnis für Kinder und Eltern mit vielen Eindrücken. \nAnmeldung erforderlich bei der Projektleitung:Olha Sekeriadis | 0176 41169197 \nGefördert vom: Bayerischen Staatsministerium des Inneren\, für Sport und Integration
URL:https://www.skf-schweinfurt.de/event/lebenswriklichkeit-in-bayern-familienausflug-zum-aero-club-schweinfurt/
ORGANIZER;CN="Projekt 'Lebenswirklichkeit in Bayern'":MAILTO:sekeriadis@skf-schweinfurt.de
END:VEVENT
BEGIN:VEVENT
DTSTART;TZID=Europe/Berlin:20250820T100000
DTEND;TZID=Europe/Berlin:20250820T120000
DTSTAMP:20260423T164724
CREATED:20250812T121045Z
LAST-MODIFIED:20250812T121059Z
UID:10001888-1755684000-1755691200@www.skf-schweinfurt.de
SUMMARY:„Lebenswirklichkeit in Bayern“ – Spielzeug-Flohmarkt
DESCRIPTION:🎉 Spielzeug-Flohmarkt – Alles muss raus! 🎉\nDu bist auf der Suche nach tollem Spielzeug? Dann komm vorbei! \nWann?Mittwoch\, 20. August 2025Uhrzeit:10:00 – 12:00 UhrOrt:Mittagsbetreuung Körnerschule/Kinderhaus LedwardFriedrich-Ebert-Str. 10\, 97421 Schweinfurt \nOhne Anmeldung – einfach vorbeikommen und stöbern! \nBei Fragen erreichst du uns unter: +49 176 411 691 97 \nDer Flohmarkt findet im Rahmen des Projekts „Lebenswirklichkeit in Bayern“ statt und wird gefördert durch das Bayerische Staatsministerium des Innern\, für Sport und Integration. \nWir freuen uns auf deinen Besuch! 🧸🧸
URL:https://www.skf-schweinfurt.de/event/lebenswirklichkeit-in-bayern-spielzeug-flohmarkt/
LOCATION:Mittagsbetreuung Körnerschule/Kinderhaus Ledward\, Friedrich-Ebert-Str. 10\, Schweinfurt
ORGANIZER;CN="Projekt 'Lebenswirklichkeit in Bayern'":MAILTO:sekeriadis@skf-schweinfurt.de
END:VEVENT
END:VCALENDAR