BEGIN:VCALENDAR
VERSION:2.0
PRODID:-//SKF Schweinfurt - ECPv6.15.17.1//NONSGML v1.0//EN
CALSCALE:GREGORIAN
METHOD:PUBLISH
X-WR-CALNAME:SKF Schweinfurt
X-ORIGINAL-URL:https://www.skf-schweinfurt.de
X-WR-CALDESC:Veranstaltungen für SKF Schweinfurt
REFRESH-INTERVAL;VALUE=DURATION:PT1H
X-Robots-Tag:noindex
X-PUBLISHED-TTL:PT1H
BEGIN:VTIMEZONE
TZID:Europe/Berlin
BEGIN:DAYLIGHT
TZOFFSETFROM:+0100
TZOFFSETTO:+0200
TZNAME:CEST
DTSTART:20240331T010000
END:DAYLIGHT
BEGIN:STANDARD
TZOFFSETFROM:+0200
TZOFFSETTO:+0100
TZNAME:CET
DTSTART:20241027T010000
END:STANDARD
BEGIN:DAYLIGHT
TZOFFSETFROM:+0100
TZOFFSETTO:+0200
TZNAME:CEST
DTSTART:20250330T010000
END:DAYLIGHT
BEGIN:STANDARD
TZOFFSETFROM:+0200
TZOFFSETTO:+0100
TZNAME:CET
DTSTART:20251026T010000
END:STANDARD
BEGIN:DAYLIGHT
TZOFFSETFROM:+0100
TZOFFSETTO:+0200
TZNAME:CEST
DTSTART:20260329T010000
END:DAYLIGHT
BEGIN:STANDARD
TZOFFSETFROM:+0200
TZOFFSETTO:+0100
TZNAME:CET
DTSTART:20261025T010000
END:STANDARD
END:VTIMEZONE
BEGIN:VEVENT
DTSTART;TZID=Europe/Berlin:20250812T100000
DTEND;TZID=Europe/Berlin:20250812T120000
DTSTAMP:20260423T152833
CREATED:20250730T130334Z
LAST-MODIFIED:20250730T130825Z
UID:10001885-1754992800-1755000000@www.skf-schweinfurt.de
SUMMARY:„Lebenswirklichkeit in Bayern" - Besuch bei der Solidarischen Landwirtschaft Schweinfurt
DESCRIPTION:Gärtnern\, entdecken und genießen \nProjekt: Frauentreff „Lebenswirklichkeit in Bayern**Datum: Montag\, 12.08.2025Uhrzeit: 10:00 UhrOrt: Im Keilgarten 3\, 97493 Bergrheinfeld \nGemeinsam erleben wir\, wie solidarische Landwirtschaft funktioniert. Wir dürfen mitgärtnern\, Ernte entdecken und dabei mehr über nachhaltige Lebensmittelproduktion erfahren. Ein lehrreicher Vormittag für Frauen und Kinder. \nAnmeldung erforderlich bei der Projektleitung:Olha Sekeriadis | 0176 41169197 \nGefördert vom: Bayerischen Staatsministerium des Inneren\, für Sport und Integration
URL:https://www.skf-schweinfurt.de/event/lebenswirklichkeit-in-bayern-besuch-bei-der-solidarischen-landwirtschaft-schweinfurt/
ORGANIZER;CN="Projekt 'Lebenswirklichkeit in Bayern'":MAILTO:sekeriadis@skf-schweinfurt.de
END:VEVENT
END:VCALENDAR